BEGIN:VCALENDAR
VERSION:2.0
PRODID:-//eventon.com NONSGML v1.0//EN
CALSCALE:GREGORIAN
METHOD:PUBLISH
BEGIN:VEVENT
UID:69e983c5dcb64
DTSTAMP:20260423T022821Z
DTSTART:20241124T093000Z
DTEND:20241124T113000Z
LOCATION:Calroig Yoga Rural Cal Roig Yoga\,  Camí de Montfort\,  153\,  poligono 1\,  03295 Jubalcoi\,  Alicante
SUMMARY:Respiracion consciente * breathwork*90'
DESCRIPTION:Liberación psico-somática y activación energética. Sesión 
 en grupo reducido. En estas sesiones exploramos en grupo el paisaje persona
 l que se abre en cada ocasión\,  para compartir la cartografía interior y
  nutrirnos de cada bitácora. El cuerpo es el espacio acallado en el que al
 macenamos lo que no somos capaces de[..]\nhttps://calroig.com/experiencia/e
 ventos/respiracion-consciente-breathwork90/var/ri-4.l-L1
URL:https://calroig.com/experiencia/eventos/respiracion-consciente-breathwork90/var/ri-4.l-L1
END:VEVENT
END:VCALENDAR