BEGIN:VCALENDAR
VERSION:2.0
PRODID:-//eventon.com NONSGML v1.0//EN
CALSCALE:GREGORIAN
METHOD:PUBLISH
BEGIN:VEVENT
UID:69e5ee9378b8e
DTSTAMP:20260420T091459Z
DTSTART:20250223T090000Z
DTEND:20250223T120000Z
LOCATION:Calroig Yoga Rural Cal Roig Yoga\,  Camí de Montfort\,  153\,  poligono 1\,  03295 Jubalcoi\,  Alicante
SUMMARY:AERIAL YOGA BRUNCH
DESCRIPTION:Taller de Yoga aéreo: práctica de 2 horas.Almuerzo incluido.\
 nhttps://calroig.com/experiencia/eventos/aerial-yoga-brunch/var/ri-2.l-L1
URL:https://calroig.com/experiencia/eventos/aerial-yoga-brunch/var/ri-2.l-L1
END:VEVENT
END:VCALENDAR