BEGIN:VCALENDAR
VERSION:2.0
PRODID:-//eventon.com NONSGML v1.0//EN
CALSCALE:GREGORIAN
METHOD:PUBLISH
BEGIN:VEVENT
UID:69e889539b7f9
DTSTAMP:20260422T083947Z
DTSTART:20251017T163000Z
DTEND:20251017T181000Z
LOCATION:
SUMMARY:Yogadanza sesion especial
DESCRIPTION:Te ofrezco esta experiencia ampliada de una de las prácticas q
 ue sin duda más me define\,  porque como tantas otras mujeres\,  bailar no
  es una acción es una forma de ser: 2h con meditación de sonido sanador y
  tentenpie. Te traigo esta técnica que imparto desde décadas de experienc
 ia: una[..]\nhttps://calroig.com/experiencia/eventos/yogadanza-sesion-espec
 ial/var/ri-1.l-L1
URL:https://calroig.com/experiencia/eventos/yogadanza-sesion-especial/var/ri-1.l-L1
END:VEVENT
END:VCALENDAR